BEGIN:VCALENDAR
VERSION:2.0
PRODID:-//jEvents 2.0 for Joomla//EN
CALSCALE:GREGORIAN
METHOD:PUBLISH
BEGIN:VEVENT
UID:3e513450461b28a8f916deebb8aa667a
CATEGORIES:Jugendgottesdienste
CREATED:20161221T233927
SUMMARY:fun©e
LOCATION:Abtsgmünd
URL;VALUE=URI:https://eja-aalen.de/medien/kalender/icalrepeat.detail/2017/04/30/172/-/fun
 -e?tmpl=component
DESCRIPTION: Dieser Event wurde importiert von: https://eja-aalen.de/medien/kalender/ic
 alrepeat.detail/2017/04/30/172/-/fun-e?tmpl=component
X-ALT-DESC;FMTTYPE=text/html: <a href="https://eja-aalen.de/medien/kalender/icalrepeat.detail/2017/04/30
 /172/-/fun-e?tmpl=component">Dieser Event wurde importiert von: https://eja
 -aalen.de/medien/kalender/icalrepeat.detail/2017/04/30/172/-/fun-e?tmpl=com
 ponent</a>DTSTAMP:20260420T033801
DTSTART:20170430T180000
SEQUENCE:0
TRANSP:OPAQUE
END:VEVENT
END:VCALENDAR