BEGIN:VCALENDAR
VERSION:2.0
PRODID:-//jEvents 2.0 for Joomla//EN
CALSCALE:GREGORIAN
METHOD:PUBLISH
BEGIN:VEVENT
UID:2fbe87fb10aeda8b8076f2cb517099a9
CATEGORIES:Schulungen
CREATED:20161221T235116
SUMMARY:Vorbereitungswochenende Zeltlager
LOCATION:Stockensägmühle
URL;VALUE=URI:https://eja-aalen.de/medien/kalender/icalrepeat.detail/2017/05/19/178/-/vor
 bereitungswochenende-zeltlager?tmpl=component
DESCRIPTION: Dieser Event wurde importiert von: https://eja-aalen.de/medien/kalender/ic
 alrepeat.detail/2017/05/19/178/-/vorbereitungswochenende-zeltlager?tmpl=com
 ponent
X-ALT-DESC;FMTTYPE=text/html: <a href="https://eja-aalen.de/medien/kalender/icalrepeat.detail/2017/05/19
 /178/-/vorbereitungswochenende-zeltlager?tmpl=component">Dieser Event wurde
  importiert von: https://eja-aalen.de/medien/kalender/icalrepeat.detail/201
 7/05/19/178/-/vorbereitungswochenende-zeltlager?tmpl=component</a>DTSTAMP:20260422T020633
DTSTART;VALUE=DATE:20170519
DTEND;VALUE=DATE:20170522
SEQUENCE:0
TRANSP:OPAQUE
END:VEVENT
END:VCALENDAR