BEGIN:VCALENDAR
VERSION:2.0
PRODID:-//jEvents 2.0 for Joomla//EN
CALSCALE:GREGORIAN
METHOD:PUBLISH
BEGIN:VEVENT
UID:f6f2d5bd49245eb998845fb1a56cceb9
CATEGORIES:Schulungen
CREATED:20161222T001332
SUMMARY:Grundkurs
LOCATION:Stettenhof / Mödingen
URL;VALUE=URI:https://eja-aalen.de/medien/kalender/icalrepeat.detail/2017/11/01/194/-/gru
 ndkurs?tmpl=component
DESCRIPTION: Dieser Event wurde importiert von: https://eja-aalen.de/medien/kalender/ic
 alrepeat.detail/2017/11/01/194/-/grundkurs?tmpl=component
X-ALT-DESC;FMTTYPE=text/html: <a href="https://eja-aalen.de/medien/kalender/icalrepeat.detail/2017/11/01
 /194/-/grundkurs?tmpl=component">Dieser Event wurde importiert von: https:/
 /eja-aalen.de/medien/kalender/icalrepeat.detail/2017/11/01/194/-/grundkurs?
 tmpl=component</a>DTSTAMP:20260424T133011
DTSTART;VALUE=DATE:20171101
DTEND;VALUE=DATE:20171106
SEQUENCE:0
TRANSP:OPAQUE
END:VEVENT
END:VCALENDAR