BEGIN:VCALENDAR
VERSION:2.0
PRODID:-//jEvents 2.0 for Joomla//EN
CALSCALE:GREGORIAN
METHOD:PUBLISH
BEGIN:VEVENT
UID:3e0e8d844ad08adc054aa5463fb79ccc
CATEGORIES:Veranstaltungen
CREATED:20170928T132200
SUMMARY:Ortsverantwortlichen Treffen
LOCATION:Gemeindehaus Westhausen
URL;VALUE=URI:https://eja-aalen.de/medien/kalender/icalrepeat.detail/2017/11/14/208/-/ort
 sverantwortlichen-treffen?tmpl=component
DESCRIPTION:Verantwortlich: Damaris Langfeldt (index.php?option=com_content&amp;view=ar
 ticle&amp;id=27&amp;Itemid=540)\n Dieser Event wurde importiert von: https:
 //eja-aalen.de/medien/kalender/icalrepeat.detail/2017/11/14/208/-/ortsveran
 twortlichen-treffen?tmpl=component
X-ALT-DESC;FMTTYPE=text/html:<p>Verantwortlich: <a href="https://eja-aalen.de/index.php?option=com_conte
 nt&amp;view=article&amp;id=27&amp;Itemid=540">Damaris Langfeldt</a></p> <a 
 href="https://eja-aalen.de/medien/kalender/icalrepeat.detail/2017/11/14/208
 /-/ortsverantwortlichen-treffen?tmpl=component">Dieser Event wurde importie
 rt von: https://eja-aalen.de/medien/kalender/icalrepeat.detail/2017/11/14/2
 08/-/ortsverantwortlichen-treffen?tmpl=component</a>DTSTAMP:20260419T123250
DTSTART:20171114T193000
SEQUENCE:0
TRANSP:OPAQUE
END:VEVENT
END:VCALENDAR