BEGIN:VCALENDAR
VERSION:2.0
PRODID:-//jEvents 2.0 for Joomla//EN
CALSCALE:GREGORIAN
METHOD:PUBLISH
BEGIN:VEVENT
UID:1d65c815d2ed5cc3d5edcd6d69aad798
CATEGORIES:Abwesenheit Verena
CREATED:20171002T093523
SUMMARY:Mitarbeiterausflug Kirchenbezirk AA
URL;VALUE=URI:https://eja-aalen.de/medien/kalender/icalrepeat.detail/2017/10/04/209/-/mit
 arbeiterausflug-kirchenbezirk-aa?tmpl=component
DESCRIPTION: <a href="https://eja-aalen.de/medien/kalender/icalrepeat.detail/2017/10/04
 /209/-/mitarbeiterausflug-kirchenbezirk-aa?tmpl=component">Dieser Event wur
 de importiert von: https://eja-aalen.de/medien/kalender/icalrepeat.detail/2
 017/10/04/209/-/mitarbeiterausflug-kirchenbezirk-aa?tmpl=component</a>DTSTAMP:20260421T122933
DTSTART:20171004T080000
DTEND:20171004T170000
SEQUENCE:0
TRANSP:OPAQUE
END:VEVENT
END:VCALENDAR