BEGIN:VCALENDAR
VERSION:2.0
PRODID:-//jEvents 2.0 for Joomla//EN
CALSCALE:GREGORIAN
METHOD:PUBLISH
BEGIN:VEVENT
UID:04e47e4b7b4bad90ff349910bf28620c
CATEGORIES:Jugendgottesdienste
CREATED:20180220T124025
SUMMARY:ZAGG Jugendgottesdienst
LOCATION:Markuskirche Aalen
URL;VALUE=URI:https://eja-aalen.de/medien/kalender/icalrepeat.detail/2018/04/22/210/-/zag
 g-jugendgottesdienst?tmpl=component
DESCRIPTION:<p>&nbsp;</p><p>&nbsp;</p> <a href="https://eja-aalen.de/medien/kalender/ic
 alrepeat.detail/2018/04/22/210/-/zagg-jugendgottesdienst?tmpl=component">Di
 eser Event wurde importiert von: https://eja-aalen.de/medien/kalender/icalr
 epeat.detail/2018/04/22/210/-/zagg-jugendgottesdienst?tmpl=component</a>DTSTAMP:20260423T044735
DTSTART:20180422T180000
SEQUENCE:0
TRANSP:OPAQUE
END:VEVENT
END:VCALENDAR