BEGIN:VCALENDAR
VERSION:2.0
PRODID:-//jEvents 2.0 for Joomla//EN
CALSCALE:GREGORIAN
METHOD:PUBLISH
BEGIN:VEVENT
UID:d2378ad3f6a7e019b02adce20be280db
CATEGORIES:Gremien
CREATED:20180220T124542
SUMMARY:BAK Planungswochenende
LOCATION:Ev. Jugendheimt Rottal
URL;VALUE=URI:https://eja-aalen.de/medien/kalender/icalrepeat.detail/2018/02/23/211/-/bak
 -planungswochenende?tmpl=component
DESCRIPTION: Dieser Event wurde importiert von: https://eja-aalen.de/medien/kalender/ic
 alrepeat.detail/2018/02/23/211/-/bak-planungswochenende?tmpl=component
X-ALT-DESC;FMTTYPE=text/html: <a href="https://eja-aalen.de/medien/kalender/icalrepeat.detail/2018/02/23
 /211/-/bak-planungswochenende?tmpl=component">Dieser Event wurde importiert
  von: https://eja-aalen.de/medien/kalender/icalrepeat.detail/2018/02/23/211
 /-/bak-planungswochenende?tmpl=component</a>DTSTAMP:20260424T070930
DTSTART:20180223T180000
DTEND;VALUE=DATE:20180226
SEQUENCE:0
TRANSP:OPAQUE
END:VEVENT
END:VCALENDAR