BEGIN:VCALENDAR
VERSION:2.0
PRODID:-//jEvents 2.0 for Joomla//EN
CALSCALE:GREGORIAN
METHOD:PUBLISH
BEGIN:VEVENT
UID:67e0e800952e9a69e2d9f524a04f9060
CATEGORIES:Jugendgottesdienste
CREATED:20180220T125805
SUMMARY:ZAGG Jugendgottesdienst
LOCATION:Markuskirche Aalen
URL;VALUE=URI:https://eja-aalen.de/medien/kalender/icalrepeat.detail/2018/06/17/214/-/zag
 g-jugendgottesdienst?tmpl=component
DESCRIPTION: <a href="https://eja-aalen.de/medien/kalender/icalrepeat.detail/2018/06/17
 /214/-/zagg-jugendgottesdienst?tmpl=component">Dieser Event wurde importier
 t von: https://eja-aalen.de/medien/kalender/icalrepeat.detail/2018/06/17/21
 4/-/zagg-jugendgottesdienst?tmpl=component</a>DTSTAMP:20260425T143402
DTSTART:20180617T153000
SEQUENCE:0
TRANSP:OPAQUE
END:VEVENT
END:VCALENDAR