BEGIN:VCALENDAR
VERSION:2.0
PRODID:-//jEvents 2.0 for Joomla//EN
CALSCALE:GREGORIAN
METHOD:PUBLISH
BEGIN:VEVENT
UID:bbb4c7e1c90951ab1eac95cb83db654a
CATEGORIES:Veranstaltungen
CREATED:20180220T130652
SUMMARY:Vorbereitungstreffen ZAGG Team
LOCATION:Gemeindehaus Markuskirche Aalen
URL;VALUE=URI:https://eja-aalen.de/medien/kalender/icalrepeat.detail/2018/06/12/218/-/vor
 bereitungstreffen-zagg-team?tmpl=component
DESCRIPTION: Dieser Event wurde importiert von: https://eja-aalen.de/medien/kalender/ic
 alrepeat.detail/2018/06/12/218/-/vorbereitungstreffen-zagg-team?tmpl=compon
 ent
X-ALT-DESC;FMTTYPE=text/html: <a href="https://eja-aalen.de/medien/kalender/icalrepeat.detail/2018/06/12
 /218/-/vorbereitungstreffen-zagg-team?tmpl=component">Dieser Event wurde im
 portiert von: https://eja-aalen.de/medien/kalender/icalrepeat.detail/2018/0
 6/12/218/-/vorbereitungstreffen-zagg-team?tmpl=component</a>CONTACT:Diese E-Mail-Adresse ist vor Spambots geschützt! Zur Anzeige muss JavaScript eingeschaltet sein!
				document.getElementById('cloakce18bae855e7b0c12ca3950c6215c92c').innerHTML = '';
				var prefix = '&#109;a' + 'i&#108;' + '&#116;o';
				var path = 'hr' + 'ef' + '=';
				var addyce18bae855e7b0c12ca3950c6215c92c = '&#101;j&#97;' + '&#64;';
				addyce18bae855e7b0c12ca3950c6215c92c = addyce18bae855e7b0c12ca3950c6215c92c + '&#101;j&#97;-&#97;&#97;l&#101;n' + '&#46;' + 'd&#101;';
				var addy_textce18bae855e7b0c12ca3950c6215c92c = '&#101;j&#97;' + '&#64;' + '&#101;j&#97;-&#97;&#97;l&#101;n' + '&#46;' + 'd&#101;';document.getElementById('cloakce18bae855e7b0c12ca3950c6215c92c').innerHTML += '<a ' + path + '\'' + prefix + ':' + addyce18bae855e7b0c12ca3950c6215c92c + '\'>'+addy_textce18bae855e7b0c12ca3950c6215c92c+'';
		
X-EXTRAINFO:Interesse dabei zu sein? Schnuppern gerne erwünscht!
DTSTAMP:20260426T040721
DTSTART:20180612T183000
SEQUENCE:0
TRANSP:OPAQUE
END:VEVENT
END:VCALENDAR