BEGIN:VCALENDAR
VERSION:2.0
PRODID:-//jEvents 2.0 for Joomla//EN
CALSCALE:GREGORIAN
METHOD:PUBLISH
BEGIN:VEVENT
UID:52e66745023ef3d4df8cbc3c2889a2c2
CATEGORIES:Jugendgottesdienste
CREATED:20180220T185052
SUMMARY:ZAGG Jugendgottesdienst
LOCATION:Markuskirche Aalen
URL;VALUE=URI:https://eja-aalen.de/medien/kalender/icalrepeat.detail/2018/02/18/221/-/zag
 g-jugendgottesdienst?tmpl=component
DESCRIPTION: Dieser Event wurde importiert von: https://eja-aalen.de/medien/kalender/ic
 alrepeat.detail/2018/02/18/221/-/zagg-jugendgottesdienst?tmpl=component
X-ALT-DESC;FMTTYPE=text/html: <a href="https://eja-aalen.de/medien/kalender/icalrepeat.detail/2018/02/18
 /221/-/zagg-jugendgottesdienst?tmpl=component">Dieser Event wurde importier
 t von: https://eja-aalen.de/medien/kalender/icalrepeat.detail/2018/02/18/22
 1/-/zagg-jugendgottesdienst?tmpl=component</a>DTSTAMP:20260425T185651
DTSTART:20180218T180000
SEQUENCE:0
TRANSP:OPAQUE
END:VEVENT
END:VCALENDAR