BEGIN:VCALENDAR
VERSION:2.0
PRODID:-//jEvents 2.0 for Joomla//EN
CALSCALE:GREGORIAN
METHOD:PUBLISH
BEGIN:VEVENT
UID:57045573960a3d108c8a714f8eba3965
CATEGORIES:Abwesenheit Elke
CREATED:20180305T095647
SUMMARY:Teilbesetzung EJA
URL;VALUE=URI:https://eja-aalen.de/medien/kalender/icalrepeat.detail/2018/03/05/237/-/tei
 lbesetzung-eja?tmpl=component
DESCRIPTION: Dieser Event wurde importiert von: https://eja-aalen.de/medien/kalender/ic
 alrepeat.detail/2018/03/05/237/-/teilbesetzung-eja?tmpl=component
X-ALT-DESC;FMTTYPE=text/html: <a href="https://eja-aalen.de/medien/kalender/icalrepeat.detail/2018/03/05
 /237/-/teilbesetzung-eja?tmpl=component">Dieser Event wurde importiert von:
  https://eja-aalen.de/medien/kalender/icalrepeat.detail/2018/03/05/237/-/te
 ilbesetzung-eja?tmpl=component</a>DTSTAMP:20260420T092455
DTSTART:20180305T080000
DTEND:20180305T170000
SEQUENCE:0
TRANSP:OPAQUE
END:VEVENT
END:VCALENDAR