BEGIN:VCALENDAR
VERSION:2.0
PRODID:-//jEvents 2.0 for Joomla//EN
CALSCALE:GREGORIAN
METHOD:PUBLISH
BEGIN:VEVENT
UID:b4373fbe98c763e5418de28f0bfc9b43
CATEGORIES:Sonstiges
CREATED:20180321T101955
SUMMARY:Jugendwerksbüro bedingt besetzt
URL;VALUE=URI:https://eja-aalen.de/medien/kalender/icalrepeat.detail/2018/03/26/242/-/jug
 endwerksbuero-bedingt-besetzt?tmpl=component
DESCRIPTION:1. Osterferienwoche - Büro sporadisch besetzt.\n2. Osterferienwoche - Büro 
 nicht besetzt.\nIn dringenden Fällen bitte an die Vorstände wenden.\n Diese
 r Event wurde importiert von: https://eja-aalen.de/medien/kalender/icalrepe
 at.detail/2018/03/26/242/-/jugendwerksbuero-bedingt-besetzt?tmpl=component
X-ALT-DESC;FMTTYPE=text/html:<p>1. Osterferienwoche - B&uuml;ro sporadisch besetzt.</p><p>2. Osterferien
 woche - B&uuml;ro nicht besetzt.</p><p>In dringenden F&auml;llen bitte an d
 ie Vorst&auml;nde wenden.</p> <a href="https://eja-aalen.de/medien/kalender
 /icalrepeat.detail/2018/03/26/242/-/jugendwerksbuero-bedingt-besetzt?tmpl=c
 omponent">Dieser Event wurde importiert von: https://eja-aalen.de/medien/ka
 lender/icalrepeat.detail/2018/03/26/242/-/jugendwerksbuero-bedingt-besetzt?
 tmpl=component</a>CONTACT:Diese E-Mail-Adresse ist vor Spambots geschützt! Zur Anzeige muss JavaScript eingeschaltet sein!
				document.getElementById('cloak3a96666bbf05756e04e31206951894ce').innerHTML = '';
				var prefix = '&#109;a' + 'i&#108;' + '&#116;o';
				var path = 'hr' + 'ef' + '=';
				var addy3a96666bbf05756e04e31206951894ce = 'v&#111;rs&#105;tz&#101;nd&#101;' + '&#64;';
				addy3a96666bbf05756e04e31206951894ce = addy3a96666bbf05756e04e31206951894ce + '&#101;j&#97;-&#97;&#97;l&#101;n' + '&#46;' + 'd&#101;';
				var addy_text3a96666bbf05756e04e31206951894ce = 'v&#111;rs&#105;tz&#101;nd&#101;' + '&#64;' + '&#101;j&#97;-&#97;&#97;l&#101;n' + '&#46;' + 'd&#101;';document.getElementById('cloak3a96666bbf05756e04e31206951894ce').innerHTML += '<a ' + path + '\'' + prefix + ':' + addy3a96666bbf05756e04e31206951894ce + '\'>'+addy_text3a96666bbf05756e04e31206951894ce+'';
		
DTSTAMP:20260419T123255
DTSTART;VALUE=DATE:20180326
DTEND;VALUE=DATE:20180407
SEQUENCE:0
TRANSP:OPAQUE
END:VEVENT
END:VCALENDAR