BEGIN:VCALENDAR
VERSION:2.0
PRODID:-//jEvents 2.0 for Joomla//EN
CALSCALE:GREGORIAN
METHOD:PUBLISH
BEGIN:VEVENT
UID:2235772b3fe02ed66b2c8268a8ea8f6a
CATEGORIES:Gremien
CREATED:20180323T100734
SUMMARY:Bezirkssynode 
LOCATION:Ellwangen
URL;VALUE=URI:https://eja-aalen.de/medien/kalender/icalrepeat.detail/2018/03/23/243/-/bez
 irkssynode?tmpl=component
DESCRIPTION: Dieser Event wurde importiert von: https://eja-aalen.de/medien/kalender/ic
 alrepeat.detail/2018/03/23/243/-/bezirkssynode?tmpl=component
X-ALT-DESC;FMTTYPE=text/html: <a href="https://eja-aalen.de/medien/kalender/icalrepeat.detail/2018/03/23
 /243/-/bezirkssynode?tmpl=component">Dieser Event wurde importiert von: htt
 ps://eja-aalen.de/medien/kalender/icalrepeat.detail/2018/03/23/243/-/bezirk
 ssynode?tmpl=component</a>DTSTAMP:20260419T231839
DTSTART:20180323T180000
SEQUENCE:0
TRANSP:OPAQUE
END:VEVENT
END:VCALENDAR