BEGIN:VCALENDAR
VERSION:2.0
PRODID:-//jEvents 2.0 for Joomla//EN
CALSCALE:GREGORIAN
METHOD:PUBLISH
BEGIN:VEVENT
UID:b8543a90d9fe6b090c31a8661396b231
CATEGORIES:Schulungen
CREATED:20180323T101732
SUMMARY:Grundkurs 2018
LOCATION:Mödingen\, Stettenhof
URL;VALUE=URI:https://eja-aalen.de/medien/kalender/icalrepeat.detail/2018/10/26/244/-/gru
 ndkurs-2018?tmpl=component
DESCRIPTION: Dieser Event wurde importiert von: https://eja-aalen.de/medien/kalender/ic
 alrepeat.detail/2018/10/26/244/-/grundkurs-2018?tmpl=component
X-ALT-DESC;FMTTYPE=text/html: <a href="https://eja-aalen.de/medien/kalender/icalrepeat.detail/2018/10/26
 /244/-/grundkurs-2018?tmpl=component">Dieser Event wurde importiert von: ht
 tps://eja-aalen.de/medien/kalender/icalrepeat.detail/2018/10/26/244/-/grund
 kurs-2018?tmpl=component</a>CONTACT:Diese E-Mail-Adresse ist vor Spambots geschützt! Zur Anzeige muss JavaScript eingeschaltet sein!
				document.getElementById('cloake7eba7250e4cd266933775b78c71f2ec').innerHTML = '';
				var prefix = '&#109;a' + 'i&#108;' + '&#116;o';
				var path = 'hr' + 'ef' + '=';
				var addye7eba7250e4cd266933775b78c71f2ec = '&#101;j&#97;' + '&#64;';
				addye7eba7250e4cd266933775b78c71f2ec = addye7eba7250e4cd266933775b78c71f2ec + '&#101;j&#97;-&#97;&#97;l&#101;n' + '&#46;' + 'd&#101;';
				var addy_texte7eba7250e4cd266933775b78c71f2ec = '&#101;j&#97;' + '&#64;' + '&#101;j&#97;-&#97;&#97;l&#101;n' + '&#46;' + 'd&#101;';document.getElementById('cloake7eba7250e4cd266933775b78c71f2ec').innerHTML += '<a ' + path + '\'' + prefix + ':' + addye7eba7250e4cd266933775b78c71f2ec + '\'>'+addy_texte7eba7250e4cd266933775b78c71f2ec+'';
		
DTSTAMP:20260424T042221
DTSTART;VALUE=DATE:20181026
DTEND;VALUE=DATE:20181031
SEQUENCE:0
TRANSP:OPAQUE
END:VEVENT
END:VCALENDAR