BEGIN:VCALENDAR
VERSION:2.0
PRODID:-//jEvents 2.0 for Joomla//EN
CALSCALE:GREGORIAN
METHOD:PUBLISH
BEGIN:VEVENT
UID:046bfcacbefca955c910a808a0c8364a
CATEGORIES:Sonstiges
CREATED:19700101T000000
SUMMARY:EJA nicht besetzt
URL;VALUE=URI:https://eja-aalen.de/medien/kalender/icalrepeat.detail/2018/04/16/247/-/eja
 -nicht-besetzt?tmpl=component
DESCRIPTION:<p>Das Jugendwerk ist heute nicht besetzt.</p><p>In dringenden F&auml;llen 
 bitte per Mail an uns wenden oder <a href="mailto:vorsitzende@eja-aalen.de"
 >vorsitzende@eja-aalen.de</a> anschreiben.</p><p>Wir bitten um Verst&auml;n
 dnis. Danke.</p> <a href="https://eja-aalen.de/medien/kalender/icalrepeat.d
 etail/2018/04/16/247/-/eja-nicht-besetzt?tmpl=component">Dieser Event wurde
  importiert von: https://eja-aalen.de/medien/kalender/icalrepeat.detail/201
 8/04/16/247/-/eja-nicht-besetzt?tmpl=component</a>CONTACT:eja@eja-aalen.de
DTSTAMP:20260423T044730
DTSTART:20180416T080000
DTEND:20180416T170000
SEQUENCE:0
RRULE:FREQ=WEEKLY;UNTIL=20180430T000000Z;INTERVAL=1;BYDAY=MO
TRANSP:OPAQUE
END:VEVENT
END:VCALENDAR