BEGIN:VCALENDAR
VERSION:2.0
PRODID:-//jEvents 2.0 for Joomla//EN
CALSCALE:GREGORIAN
METHOD:PUBLISH
BEGIN:VEVENT
UID:2f998280b73702365045a612b456381d
CATEGORIES:Abwesenheit Verena
CREATED:20180412T102444
SUMMARY:Leitungskreistreffen 
URL;VALUE=URI:https://eja-aalen.de/medien/kalender/icalrepeat.detail/2018/04/27/250/-/lei
 tungskreistreffen?tmpl=component
DESCRIPTION:EJA nicht besetzt\n Dieser Event wurde importiert von: https://eja-aalen.de
 /medien/kalender/icalrepeat.detail/2018/04/27/250/-/leitungskreistreffen?tm
 pl=component
X-ALT-DESC;FMTTYPE=text/html:<p>EJA nicht besetzt</p> <a href="https://eja-aalen.de/medien/kalender/ical
 repeat.detail/2018/04/27/250/-/leitungskreistreffen?tmpl=component">Dieser 
 Event wurde importiert von: https://eja-aalen.de/medien/kalender/icalrepeat
 .detail/2018/04/27/250/-/leitungskreistreffen?tmpl=component</a>DTSTAMP:20260420T174949
DTSTART:20180427T180000
SEQUENCE:0
TRANSP:OPAQUE
END:VEVENT
END:VCALENDAR