BEGIN:VCALENDAR
VERSION:2.0
PRODID:-//jEvents 2.0 for Joomla//EN
CALSCALE:GREGORIAN
METHOD:PUBLISH
BEGIN:VEVENT
UID:2deb0b80e3547884437c873960b88957
CATEGORIES:Abwesenheit Verena
CREATED:20180412T102708
SUMMARY:AK Junge Erwachsene
URL;VALUE=URI:https://eja-aalen.de/medien/kalender/icalrepeat.detail/2018/04/19/253/-/ak-
 junge-erwachsene?tmpl=component
DESCRIPTION: Dieser Event wurde importiert von: https://eja-aalen.de/medien/kalender/ic
 alrepeat.detail/2018/04/19/253/-/ak-junge-erwachsene?tmpl=component
X-ALT-DESC;FMTTYPE=text/html: <a href="https://eja-aalen.de/medien/kalender/icalrepeat.detail/2018/04/19
 /253/-/ak-junge-erwachsene?tmpl=component">Dieser Event wurde importiert vo
 n: https://eja-aalen.de/medien/kalender/icalrepeat.detail/2018/04/19/253/-/
 ak-junge-erwachsene?tmpl=component</a>DTSTAMP:20260420T022627
DTSTART:20180419T160000
DTEND:20180419T170000
SEQUENCE:0
TRANSP:OPAQUE
END:VEVENT
END:VCALENDAR