BEGIN:VCALENDAR
VERSION:2.0
PRODID:-//jEvents 2.0 for Joomla//EN
CALSCALE:GREGORIAN
METHOD:PUBLISH
BEGIN:VEVENT
UID:86f6279c36c459534dc325bc07ebe8c6
CATEGORIES:Veranstaltungen
CREATED:20180412T103535
SUMMARY:Entscheidungen treffen - Kooperationsprojekt
LOCATION:Diakonische Bezirksstelle Marienstraße 12 in Aalen
URL;VALUE=URI:https://eja-aalen.de/medien/kalender/icalrepeat.detail/2018/04/19/254/-/ent
 scheidungen-treffen-kooperationsprojekt?tmpl=component
DESCRIPTION:Verantwortung und Entscheidungen in einer komplexen Welt -\ndas Thema wird 
 uns an diesem Abend beschäftigen. Nix wird gefühlt leichter, sondern eher i
 mmer komplizierter...\nFrau Sylvia Caspari (Geschäftsführerin des Kreisdiak
 onieverbands Ostalbkreis) berichtet aus Ihrer ganz persönlichen Erfahrung.\
 nVor allem geht es um Lösungsansätze, Chancen schwierige Entscheidungen zu 
 überblicken und diese nachhaltig zu treffen.\nDabei auch eigene und äußere 
 Ansprüche abwegen, miteinander verbinden - auch darauf blicken wir.\nLust d
 abei zu sein? Dann einfach heute unter unten stehender Adresse erscheinen!\
 n \n Dieser Event wurde importiert von: https://eja-aalen.de/medien/kalende
 r/icalrepeat.detail/2018/04/19/254/-/entscheidungen-treffen-kooperationspro
 jekt?tmpl=component
X-ALT-DESC;FMTTYPE=text/html:<p><strong>Verantwortung und Entscheidungen in einer komplexen Welt -</stro
 ng></p><p>das Thema wird uns an diesem Abend besch&auml;ftigen. Nix wird ge
 f&uuml;hlt leichter, sondern eher immer komplizierter...</p><p>Frau Sylvia 
 Caspari (Gesch&auml;ftsf&uuml;hrerin des Kreisdiakonieverbands Ostalbkreis)
  berichtet aus Ihrer ganz pers&ouml;nlichen Erfahrung.</p><p>Vor allem geht
  es um L&ouml;sungsans&auml;tze, Chancen schwierige Entscheidungen zu &uuml
 ;berblicken und diese nachhaltig zu treffen.</p><p>Dabei auch eigene und &a
 uml;u&szlig;ere Anspr&uuml;che abwegen, miteinander verbinden - auch darauf
  blicken wir.</p><p>Lust dabei zu sein? Dann einfach heute unter unten steh
 ender Adresse erscheinen!</p><p>&nbsp;</p> <a href="https://eja-aalen.de/me
 dien/kalender/icalrepeat.detail/2018/04/19/254/-/entscheidungen-treffen-koo
 perationsprojekt?tmpl=component">Dieser Event wurde importiert von: https:/
 /eja-aalen.de/medien/kalender/icalrepeat.detail/2018/04/19/254/-/entscheidu
 ngen-treffen-kooperationsprojekt?tmpl=component</a>CONTACT:Diese E-Mail-Adresse ist vor Spambots geschützt! Zur Anzeige muss JavaScript eingeschaltet sein!
				document.getElementById('cloakc52af189f06f6e55cbb93128327262c5').innerHTML = '';
				var prefix = '&#109;a' + 'i&#108;' + '&#116;o';
				var path = 'hr' + 'ef' + '=';
				var addyc52af189f06f6e55cbb93128327262c5 = '&#101;j&#97;' + '&#64;';
				addyc52af189f06f6e55cbb93128327262c5 = addyc52af189f06f6e55cbb93128327262c5 + '&#101;j&#97;-&#97;&#97;l&#101;n' + '&#46;' + 'd&#101;';
				var addy_textc52af189f06f6e55cbb93128327262c5 = '&#101;j&#97;' + '&#64;' + '&#101;j&#97;-&#97;&#97;l&#101;n' + '&#46;' + 'd&#101;';document.getElementById('cloakc52af189f06f6e55cbb93128327262c5').innerHTML += '<a ' + path + '\'' + prefix + ':' + addyc52af189f06f6e55cbb93128327262c5 + '\'>'+addy_textc52af189f06f6e55cbb93128327262c5+'';
		
X-EXTRAINFO:kostenfrei :-)
DTSTAMP:20260423T161101
DTSTART:20180419T190000
SEQUENCE:0
TRANSP:OPAQUE
END:VEVENT
END:VCALENDAR