BEGIN:VCALENDAR
VERSION:2.0
PRODID:-//jEvents 2.0 for Joomla//EN
CALSCALE:GREGORIAN
METHOD:PUBLISH
BEGIN:VEVENT
UID:371de6125cd83f286f2b85b05c0e4527
CATEGORIES:Gremien
CREATED:20180511T093446
SUMMARY:Vorbereitungstreffen Grundkurs 
URL;VALUE=URI:https://eja-aalen.de/medien/kalender/icalrepeat.detail/2018/05/24/269/-/vor
 bereitungstreffen-grundkurs?tmpl=component
DESCRIPTION: <a href="https://eja-aalen.de/medien/kalender/icalrepeat.detail/2018/05/24
 /269/-/vorbereitungstreffen-grundkurs?tmpl=component">Dieser Event wurde im
 portiert von: https://eja-aalen.de/medien/kalender/icalrepeat.detail/2018/0
 5/24/269/-/vorbereitungstreffen-grundkurs?tmpl=component</a>DTSTAMP:20260419T123903
DTSTART:20180524T180000
DTEND:20180524T203000
SEQUENCE:0
TRANSP:OPAQUE
END:VEVENT
END:VCALENDAR