BEGIN:VCALENDAR
VERSION:2.0
PRODID:-//jEvents 2.0 for Joomla//EN
CALSCALE:GREGORIAN
METHOD:PUBLISH
BEGIN:VEVENT
UID:f774820ef44f07cb1e8c067652341c4d
CATEGORIES:Veranstaltungen
CREATED:20180511T094016
SUMMARY:Verantwortlichen Treffen Kinder- und Jugendarbeit in Gemeinden
LOCATION:Westhausen\, ev. Gemeindehaus 
URL;VALUE=URI:https://eja-aalen.de/medien/kalender/icalrepeat.detail/2018/06/12/271/-/ver
 antwortlichen-treffen-kinder-und-jugendarbeit-in-gemeinden?tmpl=component
DESCRIPTION:<p>Verantwortlichen Treffen der Kirchengemeinden des Bezirks</p><p>Themensc
 hwerpunkte: Mitarbeitergewinnung, Umgang mit JugendmitarbeiterInnen</p><p>&
 nbsp;</p> <a href="https://eja-aalen.de/medien/kalender/icalrepeat.detail/2
 018/06/12/271/-/verantwortlichen-treffen-kinder-und-jugendarbeit-in-gemeind
 en?tmpl=component">Dieser Event wurde importiert von: https://eja-aalen.de/
 medien/kalender/icalrepeat.detail/2018/06/12/271/-/verantwortlichen-treffen
 -kinder-und-jugendarbeit-in-gemeinden?tmpl=component</a>CONTACT:Diese E-Mail-Adresse ist vor Spambots geschützt! Zur Anzeige muss JavaScript eingeschaltet sein!
				document.getElementById('cloak29c27b36bbc3305949eb69146292b141').innerHTML = '';
				var prefix = '&#109;a' + 'i&#108;' + '&#116;o';
				var path = 'hr' + 'ef' + '=';
				var addy29c27b36bbc3305949eb69146292b141 = 'd&#97;m&#97;r&#105;s.l&#97;ngf&#101;ldt' + '&#64;';
				addy29c27b36bbc3305949eb69146292b141 = addy29c27b36bbc3305949eb69146292b141 + '&#101;lkw' + '&#46;' + 'd&#101;';
				var addy_text29c27b36bbc3305949eb69146292b141 = 'd&#97;m&#97;r&#105;s.l&#97;ngf&#101;ldt' + '&#64;' + '&#101;lkw' + '&#46;' + 'd&#101;';document.getElementById('cloak29c27b36bbc3305949eb69146292b141').innerHTML += '<a ' + path + '\'' + prefix + ':' + addy29c27b36bbc3305949eb69146292b141 + '\'>'+addy_text29c27b36bbc3305949eb69146292b141+'';
		
DTSTAMP:20260425T232800
DTSTART:20180612T190000
DTEND:20180612T210000
SEQUENCE:0
TRANSP:OPAQUE
END:VEVENT
END:VCALENDAR