BEGIN:VCALENDAR
VERSION:2.0
PRODID:-//jEvents 2.0 for Joomla//EN
CALSCALE:GREGORIAN
METHOD:PUBLISH
BEGIN:VEVENT
UID:0f349ee02805d090ae1bc3595e152808
CATEGORIES:Freizeiten
CREATED:20180614T162313
SUMMARY:Konficamp Ost I
LOCATION:Stockensägmühle Ellwangen
URL;VALUE=URI:https://eja-aalen.de/medien/kalender/icalrepeat.detail/2018/07/13/282/-/kon
 ficamp-ost-i?tmpl=component
DESCRIPTION: Dieser Event wurde importiert von: https://eja-aalen.de/medien/kalender/ic
 alrepeat.detail/2018/07/13/282/-/konficamp-ost-i?tmpl=component
X-ALT-DESC;FMTTYPE=text/html: <a href="https://eja-aalen.de/medien/kalender/icalrepeat.detail/2018/07/13
 /282/-/konficamp-ost-i?tmpl=component">Dieser Event wurde importiert von: h
 ttps://eja-aalen.de/medien/kalender/icalrepeat.detail/2018/07/13/282/-/konf
 icamp-ost-i?tmpl=component</a>DTSTAMP:20260424T095041
DTSTART:20180713T080000
DTEND:20180715T170000
SEQUENCE:0
TRANSP:OPAQUE
END:VEVENT
END:VCALENDAR