BEGIN:VCALENDAR
VERSION:2.0
PRODID:-//jEvents 2.0 for Joomla//EN
CALSCALE:GREGORIAN
METHOD:PUBLISH
BEGIN:VEVENT
UID:fb6731d402343836cace2a93421dabe3
CATEGORIES:Gremien
CREATED:20180614T162701
SUMMARY:AK Öffentlichkeitsarbeit Treffen
LOCATION:EJA Aalen
URL;VALUE=URI:https://eja-aalen.de/medien/kalender/icalrepeat.detail/2018/07/11/285/-/ak-
 oeffentlichkeitsarbeit-treffen?tmpl=component
DESCRIPTION: Dieser Event wurde importiert von: https://eja-aalen.de/medien/kalender/ic
 alrepeat.detail/2018/07/11/285/-/ak-oeffentlichkeitsarbeit-treffen?tmpl=com
 ponent
X-ALT-DESC;FMTTYPE=text/html: <a href="https://eja-aalen.de/medien/kalender/icalrepeat.detail/2018/07/11
 /285/-/ak-oeffentlichkeitsarbeit-treffen?tmpl=component">Dieser Event wurde
  importiert von: https://eja-aalen.de/medien/kalender/icalrepeat.detail/201
 8/07/11/285/-/ak-oeffentlichkeitsarbeit-treffen?tmpl=component</a>DTSTAMP:20260424T173245
DTSTART:20180711T170000
DTEND:20180711T190000
SEQUENCE:0
TRANSP:OPAQUE
END:VEVENT
END:VCALENDAR