BEGIN:VCALENDAR
VERSION:2.0
PRODID:-//jEvents 2.0 for Joomla//EN
CALSCALE:GREGORIAN
METHOD:PUBLISH
BEGIN:VEVENT
UID:fd6e03e854cc1aa6d7e467f85e6c291c
CATEGORIES:Abwesenheit Verena
CREATED:20180725T135555
SUMMARY:EJA Teilbesetzung
URL;VALUE=URI:https://eja-aalen.de/medien/kalender/icalrepeat.detail/2018/07/30/288/-/eja
 -teilbesetzung?tmpl=component
DESCRIPTION: <a href="https://eja-aalen.de/medien/kalender/icalrepeat.detail/2018/07/30
 /288/-/eja-teilbesetzung?tmpl=component">Dieser Event wurde importiert von:
  https://eja-aalen.de/medien/kalender/icalrepeat.detail/2018/07/30/288/-/ej
 a-teilbesetzung?tmpl=component</a>DTSTAMP:20260425T025054
DTSTART:20180730T080000
DTEND:20180805T170000
SEQUENCE:0
TRANSP:OPAQUE
END:VEVENT
END:VCALENDAR