BEGIN:VCALENDAR
VERSION:2.0
PRODID:-//jEvents 2.0 for Joomla//EN
CALSCALE:GREGORIAN
METHOD:PUBLISH
BEGIN:VEVENT
UID:5217112b7365d76481bba3063bb158af
CATEGORIES:Abwesenheit Verena
CREATED:20180725T135711
SUMMARY:EJA Teilbesetzung
LOCATION:Zeltlagerbetreuung Stockensägmühle/LKB
URL;VALUE=URI:https://eja-aalen.de/medien/kalender/icalrepeat.detail/2018/08/06/289/-/eja
 -teilbesetzung?tmpl=component
DESCRIPTION: Dieser Event wurde importiert von: https://eja-aalen.de/medien/kalender/ic
 alrepeat.detail/2018/08/06/289/-/eja-teilbesetzung?tmpl=component
X-ALT-DESC;FMTTYPE=text/html: <a href="https://eja-aalen.de/medien/kalender/icalrepeat.detail/2018/08/06
 /289/-/eja-teilbesetzung?tmpl=component">Dieser Event wurde importiert von:
  https://eja-aalen.de/medien/kalender/icalrepeat.detail/2018/08/06/289/-/ej
 a-teilbesetzung?tmpl=component</a>DTSTAMP:20260420T162948
DTSTART:20180806T080000
DTEND:20180831T170000
SEQUENCE:0
TRANSP:OPAQUE
END:VEVENT
END:VCALENDAR