BEGIN:VCALENDAR
VERSION:2.0
PRODID:-//jEvents 2.0 for Joomla//EN
CALSCALE:GREGORIAN
METHOD:PUBLISH
BEGIN:VEVENT
UID:a1770ca65a1e18450c275634ffe8697a
CATEGORIES:Abwesenheit Verena
CREATED:20180725T140024
SUMMARY:Fortbildung - Aufbauausbildung Zentrum Diakonat
LOCATION:Ludwigsburg
URL;VALUE=URI:https://eja-aalen.de/medien/kalender/icalrepeat.detail/2018/09/24/294/-/for
 tbildung-aufbauausbildung-zentrum-diakonat?tmpl=component
DESCRIPTION: <a href="https://eja-aalen.de/medien/kalender/icalrepeat.detail/2018/09/24
 /294/-/fortbildung-aufbauausbildung-zentrum-diakonat?tmpl=component">Dieser
  Event wurde importiert von: https://eja-aalen.de/medien/kalender/icalrepea
 t.detail/2018/09/24/294/-/fortbildung-aufbauausbildung-zentrum-diakonat?tmp
 l=component</a>DTSTAMP:20260424T172117
DTSTART:20180924T080000
DTEND:20180928T170000
SEQUENCE:0
TRANSP:OPAQUE
END:VEVENT
END:VCALENDAR