BEGIN:VCALENDAR
VERSION:2.0
PRODID:-//jEvents 2.0 for Joomla//EN
CALSCALE:GREGORIAN
METHOD:PUBLISH
BEGIN:VEVENT
UID:4ad08865057a8cdc7402291ff2dda3a4
CATEGORIES:Abwesenheit Verena
CREATED:20180725T140125
SUMMARY:Urlaub
URL;VALUE=URI:https://eja-aalen.de/medien/kalender/icalrepeat.detail/2018/10/01/295/-/url
 aub?tmpl=component
DESCRIPTION: Dieser Event wurde importiert von: https://eja-aalen.de/medien/kalender/ic
 alrepeat.detail/2018/10/01/295/-/urlaub?tmpl=component
X-ALT-DESC;FMTTYPE=text/html: <a href="https://eja-aalen.de/medien/kalender/icalrepeat.detail/2018/10/01
 /295/-/urlaub?tmpl=component">Dieser Event wurde importiert von: https://ej
 a-aalen.de/medien/kalender/icalrepeat.detail/2018/10/01/295/-/urlaub?tmpl=c
 omponent</a>DTSTAMP:20260425T115032
DTSTART:20181001T080000
DTEND:20181005T170000
SEQUENCE:0
TRANSP:OPAQUE
END:VEVENT
END:VCALENDAR