BEGIN:VCALENDAR
VERSION:2.0
PRODID:-//jEvents 2.0 for Joomla//EN
CALSCALE:GREGORIAN
METHOD:PUBLISH
BEGIN:VEVENT
UID:48a71b43999c846ef22e751c07003069
CATEGORIES:Sonstiges
CREATED:20180725T140333
SUMMARY:Mitarbeiterausflug KBZ AA
URL;VALUE=URI:https://eja-aalen.de/medien/kalender/icalrepeat.detail/2018/10/08/296/-/mit
 arbeiterausflug-kbz-aa?tmpl=component
DESCRIPTION: Dieser Event wurde importiert von: https://eja-aalen.de/medien/kalender/ic
 alrepeat.detail/2018/10/08/296/-/mitarbeiterausflug-kbz-aa?tmpl=component
X-ALT-DESC;FMTTYPE=text/html: <a href="https://eja-aalen.de/medien/kalender/icalrepeat.detail/2018/10/08
 /296/-/mitarbeiterausflug-kbz-aa?tmpl=component">Dieser Event wurde importi
 ert von: https://eja-aalen.de/medien/kalender/icalrepeat.detail/2018/10/08/
 296/-/mitarbeiterausflug-kbz-aa?tmpl=component</a>DTSTAMP:20260424T221415
DTSTART:20181008T080000
SEQUENCE:0
TRANSP:OPAQUE
END:VEVENT
END:VCALENDAR