BEGIN:VCALENDAR
VERSION:2.0
PRODID:-//jEvents 2.0 for Joomla//EN
CALSCALE:GREGORIAN
METHOD:PUBLISH
BEGIN:VEVENT
UID:f07a6403e4b8690f832c9c8e4951776a
CATEGORIES:Abwesenheit Verena
CREATED:20180808T110711
SUMMARY:Fortbildung - Aufbauausbildung Zentrum Diakonat
LOCATION:Ludwigsburg
URL;VALUE=URI:https://eja-aalen.de/medien/kalender/icalrepeat.detail/2019/04/01/304/-/for
 tbildung-aufbauausbildung-zentrum-diakonat?tmpl=component
DESCRIPTION: <a href="https://eja-aalen.de/medien/kalender/icalrepeat.detail/2019/04/01
 /304/-/fortbildung-aufbauausbildung-zentrum-diakonat?tmpl=component">Dieser
  Event wurde importiert von: https://eja-aalen.de/medien/kalender/icalrepea
 t.detail/2019/04/01/304/-/fortbildung-aufbauausbildung-zentrum-diakonat?tmp
 l=component</a>DTSTAMP:20260422T101019
DTSTART:20190401T080000
DTEND:20190405T170000
SEQUENCE:0
TRANSP:OPAQUE
END:VEVENT
END:VCALENDAR