BEGIN:VCALENDAR
VERSION:2.0
PRODID:-//jEvents 2.0 for Joomla//EN
CALSCALE:GREGORIAN
METHOD:PUBLISH
BEGIN:VEVENT
UID:a3b94f3c23f6c99fb2dc8c63627a4a65
CATEGORIES:Jugendgottesdienste
CREATED:20180925T093053
SUMMARY:ChurchNight im neuen Gemeindehaus Aalen
URL;VALUE=URI:https://eja-aalen.de/medien/kalender/icalrepeat.detail/2018/10/31/315/-/chu
 rchnight-im-neuen-gemeindehaus-aalen?tmpl=component
DESCRIPTION: Dieser Event wurde importiert von: https://eja-aalen.de/medien/kalender/ic
 alrepeat.detail/2018/10/31/315/-/churchnight-im-neuen-gemeindehaus-aalen?tm
 pl=component
X-ALT-DESC;FMTTYPE=text/html: <a href="https://eja-aalen.de/medien/kalender/icalrepeat.detail/2018/10/31
 /315/-/churchnight-im-neuen-gemeindehaus-aalen?tmpl=component">Dieser Event
  wurde importiert von: https://eja-aalen.de/medien/kalender/icalrepeat.deta
 il/2018/10/31/315/-/churchnight-im-neuen-gemeindehaus-aalen?tmpl=component<
 /a>DTSTAMP:20260424T054605
DTSTART:20181031T180000
SEQUENCE:0
TRANSP:OPAQUE
END:VEVENT
END:VCALENDAR