BEGIN:VCALENDAR
VERSION:2.0
PRODID:-//jEvents 2.0 for Joomla//EN
CALSCALE:GREGORIAN
METHOD:PUBLISH
BEGIN:VEVENT
UID:4cb42c3f6930b9ba76ce60f4ac4f63b7
CATEGORIES:Veranstaltungen
CREATED:20181011T133739
SUMMARY:Teilbesetzung EJA - Konvent der Jugendreferenten EJW 
LOCATION:Bernhäuser Forst
URL;VALUE=URI:https://eja-aalen.de/medien/kalender/icalrepeat.detail/2019/03/11/333/-/tei
 lbesetzung-eja-konvent-der-jugendreferenten-ejw?tmpl=component
DESCRIPTION:Konvent für alle hauptamtliche Jugendreferent/innen\n Dieser Event wurde im
 portiert von: https://eja-aalen.de/medien/kalender/icalrepeat.detail/2019/0
 3/11/333/-/teilbesetzung-eja-konvent-der-jugendreferenten-ejw?tmpl=componen
 t
X-ALT-DESC;FMTTYPE=text/html:<p>Konvent f&uuml;r alle hauptamtliche Jugendreferent/innen</p> <a href="ht
 tps://eja-aalen.de/medien/kalender/icalrepeat.detail/2019/03/11/333/-/teilb
 esetzung-eja-konvent-der-jugendreferenten-ejw?tmpl=component">Dieser Event 
 wurde importiert von: https://eja-aalen.de/medien/kalender/icalrepeat.detai
 l/2019/03/11/333/-/teilbesetzung-eja-konvent-der-jugendreferenten-ejw?tmpl=
 component</a>DTSTAMP:20260425T022111
DTSTART;VALUE=DATE:20190311
DTEND;VALUE=DATE:20190314
SEQUENCE:0
TRANSP:OPAQUE
END:VEVENT
END:VCALENDAR