BEGIN:VCALENDAR
VERSION:2.0
PRODID:-//jEvents 2.0 for Joomla//EN
CALSCALE:GREGORIAN
METHOD:PUBLISH
BEGIN:VEVENT
UID:90333135568089b455ac98c67e9d4db5
CATEGORIES:Gremien
CREATED:20181011T134538
SUMMARY:Delegiertenversammlung des EJA Aalen
LOCATION:neues Gemeindehaus Aalen
URL;VALUE=URI:https://eja-aalen.de/medien/kalender/icalrepeat.detail/2019/03/30/334/-/del
 egiertenversammlung-des-eja-aalen?tmpl=component
DESCRIPTION:Delegiertenversammlung des Bezirksjugendwerks Aalen!\nHerzliche Einladung a
 n alle Interessierten, vor Ort in der Kirchengemeinde tätigen Ehrenamtliche
 n, Pfarrer/innen und Verantwortlichen - sich an diesem Nachmittag mit uns z
 u besprechen und kulinarisch verwöhnen zu lassen:\nhier könnt IHR klar mitb
 estimmen, was das Bezirksjugendwerk in der nächsten Zeit angehen soll; \nmi
 tbewegen und uns alle persönlich eure Meinung mitteilen! \n\n Dieser Event 
 wurde importiert von: https://eja-aalen.de/medien/kalender/icalrepeat.detai
 l/2019/03/30/334/-/delegiertenversammlung-des-eja-aalen?tmpl=component
X-ALT-DESC;FMTTYPE=text/html:<p>Delegiertenversammlung des Bezirksjugendwerks Aalen!</p><p>Herzliche Ein
 ladung an alle Interessierten, vor Ort in der Kirchengemeinde t&auml;tigen 
 Ehrenamtlichen, Pfarrer/innen und Verantwortlichen - sich an diesem Nachmit
 tag mit uns zu besprechen und kulinarisch verw&ouml;hnen zu lassen:</p><p><
 strong>hier k&ouml;nnt IHR klar mitbestimmen, was das Bezirksjugendwerk in 
 der n&auml;chsten Zeit angehen soll; </strong></p><p><strong>mitbewegen und
  uns alle pers&ouml;nlich eure Meinung mitteilen! <br /></strong></p> <a hr
 ef="https://eja-aalen.de/medien/kalender/icalrepeat.detail/2019/03/30/334/-
 /delegiertenversammlung-des-eja-aalen?tmpl=component">Dieser Event wurde im
 portiert von: https://eja-aalen.de/medien/kalender/icalrepeat.detail/2019/0
 3/30/334/-/delegiertenversammlung-des-eja-aalen?tmpl=component</a>CONTACT:Diese E-Mail-Adresse ist vor Spambots geschützt! Zur Anzeige muss JavaScript eingeschaltet sein!
				document.getElementById('cloakf8dfff77edd8d76d785f880ea19dfb90').innerHTML = '';
				var prefix = '&#109;a' + 'i&#108;' + '&#116;o';
				var path = 'hr' + 'ef' + '=';
				var addyf8dfff77edd8d76d785f880ea19dfb90 = '&#101;j&#97;' + '&#64;';
				addyf8dfff77edd8d76d785f880ea19dfb90 = addyf8dfff77edd8d76d785f880ea19dfb90 + '&#101;j&#97;-&#97;&#97;l&#101;n' + '&#46;' + 'd&#101;';
				var addy_textf8dfff77edd8d76d785f880ea19dfb90 = '&#101;j&#97;' + '&#64;' + '&#101;j&#97;-&#97;&#97;l&#101;n' + '&#46;' + 'd&#101;';document.getElementById('cloakf8dfff77edd8d76d785f880ea19dfb90').innerHTML += '<a ' + path + '\'' + prefix + ':' + addyf8dfff77edd8d76d785f880ea19dfb90 + '\'>'+addy_textf8dfff77edd8d76d785f880ea19dfb90+'';
		
DTSTAMP:20260425T022125
DTSTART:20190330T160000
SEQUENCE:0
TRANSP:OPAQUE
END:VEVENT
END:VCALENDAR