BEGIN:VCALENDAR
VERSION:2.0
PRODID:-//jEvents 2.0 for Joomla//EN
CALSCALE:GREGORIAN
METHOD:PUBLISH
BEGIN:VEVENT
UID:931565da95269c99f3d3905a532aec72
CATEGORIES:Freizeiten
CREATED:20181011T140207
SUMMARY:Winterwochenende 2019 - im Pitztal - ab 16J.
LOCATION:im Pitztal - Felsenhof
URL;VALUE=URI:https://eja-aalen.de/medien/kalender/icalrepeat.detail/2019/01/03/337/-/win
 terwochenende-2019-im-pitztal-ab-16j?tmpl=component
DESCRIPTION:Infos &amp; Anmeldung unter\nhttps://www.eja-aalen.de/angebote/freizeiten (
 angebote/freizeiten)\n Dieser Event wurde importiert von: https://eja-aalen
 .de/medien/kalender/icalrepeat.detail/2019/01/03/337/-/winterwochenende-201
 9-im-pitztal-ab-16j?tmpl=component
X-ALT-DESC;FMTTYPE=text/html:<p>Infos &amp; Anmeldung unter</p><p><a href="https://eja-aalen.de/angebote
 /freizeiten">https://www.eja-aalen.de/angebote/freizeiten</a></p> <a href="
 https://eja-aalen.de/medien/kalender/icalrepeat.detail/2019/01/03/337/-/win
 terwochenende-2019-im-pitztal-ab-16j?tmpl=component">Dieser Event wurde imp
 ortiert von: https://eja-aalen.de/medien/kalender/icalrepeat.detail/2019/01
 /03/337/-/winterwochenende-2019-im-pitztal-ab-16j?tmpl=component</a>CONTACT:Diese E-Mail-Adresse ist vor Spambots geschützt! Zur Anzeige muss JavaScript eingeschaltet sein!
				document.getElementById('cloakc1c227b0c8acaca9e159a1926c1c89ea').innerHTML = '';
				var prefix = '&#109;a' + 'i&#108;' + '&#116;o';
				var path = 'hr' + 'ef' + '=';
				var addyc1c227b0c8acaca9e159a1926c1c89ea = 'w&#105;nt&#101;rw&#101;' + '&#64;';
				addyc1c227b0c8acaca9e159a1926c1c89ea = addyc1c227b0c8acaca9e159a1926c1c89ea + '&#101;j&#97;-&#97;&#97;l&#101;n' + '&#46;' + 'd&#101;';
				var addy_textc1c227b0c8acaca9e159a1926c1c89ea = 'w&#105;nt&#101;rw&#101;' + '&#64;' + '&#101;j&#97;-&#97;&#97;l&#101;n' + '&#46;' + 'd&#101;';document.getElementById('cloakc1c227b0c8acaca9e159a1926c1c89ea').innerHTML += '<a ' + path + '\'' + prefix + ':' + addyc1c227b0c8acaca9e159a1926c1c89ea + '\'>'+addy_textc1c227b0c8acaca9e159a1926c1c89ea+'';
		
DTSTAMP:20260421T190911
DTSTART;VALUE=DATE:20190103
DTEND;VALUE=DATE:20190107
SEQUENCE:0
TRANSP:OPAQUE
END:VEVENT
END:VCALENDAR