BEGIN:VCALENDAR
VERSION:2.0
PRODID:-//jEvents 2.0 for Joomla//EN
CALSCALE:GREGORIAN
METHOD:PUBLISH
BEGIN:VEVENT
UID:3a552ac668f3009fa69fc69d493052ff
CATEGORIES:Abwesenheit Elke
CREATED:19700101T000000
SUMMARY:EJA Teilbesetzung
URL;VALUE=URI:https://eja-aalen.de/medien/kalender/icalrepeat.detail/2019/01/03/348/-/eja
 -teilbesetzung?tmpl=component
DESCRIPTION: Dieser Event wurde importiert von: https://eja-aalen.de/medien/kalender/ic
 alrepeat.detail/2019/01/03/348/-/eja-teilbesetzung?tmpl=component
X-ALT-DESC;FMTTYPE=text/html: <a href="https://eja-aalen.de/medien/kalender/icalrepeat.detail/2019/01/03
 /348/-/eja-teilbesetzung?tmpl=component">Dieser Event wurde importiert von:
  https://eja-aalen.de/medien/kalender/icalrepeat.detail/2019/01/03/348/-/ej
 a-teilbesetzung?tmpl=component</a>DTSTAMP:20260425T170734
DTSTART;VALUE=DATE:20190103
DTEND;VALUE=DATE:20190104
SEQUENCE:0
RRULE:FREQ=WEEKLY;COUNT=2;INTERVAL=1;BYDAY=TH
TRANSP:OPAQUE
END:VEVENT
END:VCALENDAR