BEGIN:VCALENDAR
VERSION:2.0
PRODID:-//jEvents 2.0 for Joomla//EN
CALSCALE:GREGORIAN
METHOD:PUBLISH
BEGIN:VEVENT
UID:c07cb8dcef028d002357392a64f837bd
CATEGORIES:Schulungen
CREATED:20190108T091512
SUMMARY:Grundkurs Mitarbeiterschulung Geislinger Mühle
URL;VALUE=URI:https://eja-aalen.de/medien/kalender/icalrepeat.detail/2019/10/28/357/-/gru
 ndkurs-mitarbeiterschulung-geislinger-muehle?tmpl=component
DESCRIPTION: Dieser Event wurde importiert von: https://eja-aalen.de/medien/kalender/ic
 alrepeat.detail/2019/10/28/357/-/grundkurs-mitarbeiterschulung-geislinger-m
 uehle?tmpl=component
X-ALT-DESC;FMTTYPE=text/html: <a href="https://eja-aalen.de/medien/kalender/icalrepeat.detail/2019/10/28
 /357/-/grundkurs-mitarbeiterschulung-geislinger-muehle?tmpl=component">Dies
 er Event wurde importiert von: https://eja-aalen.de/medien/kalender/icalrep
 eat.detail/2019/10/28/357/-/grundkurs-mitarbeiterschulung-geislinger-muehle
 ?tmpl=component</a>DTSTAMP:20260424T173320
DTSTART;VALUE=DATE:20191028
DTEND;VALUE=DATE:20191103
SEQUENCE:0
TRANSP:OPAQUE
END:VEVENT
END:VCALENDAR