BEGIN:VCALENDAR
VERSION:2.0
PRODID:-//jEvents 2.0 for Joomla//EN
CALSCALE:GREGORIAN
METHOD:PUBLISH
BEGIN:VEVENT
UID:616c4ab058468b80c5f293c602ff588d
CATEGORIES:Veranstaltungen
CREATED:20190109T102741
SUMMARY:Theo Livestream GH Aalen
URL;VALUE=URI:https://eja-aalen.de/medien/kalender/icalrepeat.detail/2019/01/13/358/-/the
 o-livestream-gh-aalen?tmpl=component
DESCRIPTION: <a href="https://eja-aalen.de/medien/kalender/icalrepeat.detail/2019/01/13
 /358/-/theo-livestream-gh-aalen?tmpl=component">Dieser Event wurde importie
 rt von: https://eja-aalen.de/medien/kalender/icalrepeat.detail/2019/01/13/3
 58/-/theo-livestream-gh-aalen?tmpl=component</a>DTSTAMP:20260425T205037
DTSTART:20190113T181500
DTEND:20190113T201500
SEQUENCE:0
TRANSP:OPAQUE
END:VEVENT
END:VCALENDAR