BEGIN:VCALENDAR
VERSION:2.0
PRODID:-//jEvents 2.0 for Joomla//EN
CALSCALE:GREGORIAN
METHOD:PUBLISH
BEGIN:VEVENT
UID:fd8a34334e6852ca7211d9e95136af1e
CATEGORIES:Jugendgottesdienste
CREATED:20190109T103315
SUMMARY:ZAGG-Jugendgottesdienst GH Aalen
URL;VALUE=URI:https://eja-aalen.de/medien/kalender/icalrepeat.detail/2019/03/17/362/-/zag
 g-jugendgottesdienst-gh-aalen?tmpl=component
DESCRIPTION: Dieser Event wurde importiert von: https://eja-aalen.de/medien/kalender/ic
 alrepeat.detail/2019/03/17/362/-/zagg-jugendgottesdienst-gh-aalen?tmpl=comp
 onent
X-ALT-DESC;FMTTYPE=text/html: <a href="https://eja-aalen.de/medien/kalender/icalrepeat.detail/2019/03/17
 /362/-/zagg-jugendgottesdienst-gh-aalen?tmpl=component">Dieser Event wurde 
 importiert von: https://eja-aalen.de/medien/kalender/icalrepeat.detail/2019
 /03/17/362/-/zagg-jugendgottesdienst-gh-aalen?tmpl=component</a>DTSTAMP:20260421T215246
DTSTART:20190317T180000
SEQUENCE:0
TRANSP:OPAQUE
END:VEVENT
END:VCALENDAR