BEGIN:VCALENDAR
VERSION:2.0
PRODID:-//jEvents 2.0 for Joomla//EN
CALSCALE:GREGORIAN
METHOD:PUBLISH
BEGIN:VEVENT
UID:7635ef0a711e1cf9c392eaef44ea46f9
CATEGORIES:Jugendgottesdienste
CREATED:20190109T103405
SUMMARY:ZAGG-Jugendgottesdienst GH Aalen
URL;VALUE=URI:https://eja-aalen.de/medien/kalender/icalrepeat.detail/2019/05/19/363/-/zag
 g-jugendgottesdienst-gh-aalen?tmpl=component
DESCRIPTION: Dieser Event wurde importiert von: https://eja-aalen.de/medien/kalender/ic
 alrepeat.detail/2019/05/19/363/-/zagg-jugendgottesdienst-gh-aalen?tmpl=comp
 onent
X-ALT-DESC;FMTTYPE=text/html: <a href="https://eja-aalen.de/medien/kalender/icalrepeat.detail/2019/05/19
 /363/-/zagg-jugendgottesdienst-gh-aalen?tmpl=component">Dieser Event wurde 
 importiert von: https://eja-aalen.de/medien/kalender/icalrepeat.detail/2019
 /05/19/363/-/zagg-jugendgottesdienst-gh-aalen?tmpl=component</a>DTSTAMP:20260423T072914
DTSTART:20190519T180000
SEQUENCE:0
TRANSP:OPAQUE
END:VEVENT
END:VCALENDAR