BEGIN:VCALENDAR
VERSION:2.0
PRODID:-//jEvents 2.0 for Joomla//EN
CALSCALE:GREGORIAN
METHOD:PUBLISH
BEGIN:VEVENT
UID:e61390940a928f51a45753a70d3763e5
CATEGORIES:Gremien
CREATED:20190110T205358
SUMMARY:Bezirkssynode
LOCATION:Unterrombach
URL;VALUE=URI:https://eja-aalen.de/medien/kalender/icalrepeat.detail/2019/03/15/371/-/bez
 irkssynode?tmpl=component
DESCRIPTION: <a href="https://eja-aalen.de/medien/kalender/icalrepeat.detail/2019/03/15
 /371/-/bezirkssynode?tmpl=component">Dieser Event wurde importiert von: htt
 ps://eja-aalen.de/medien/kalender/icalrepeat.detail/2019/03/15/371/-/bezirk
 ssynode?tmpl=component</a>DTSTAMP:20260421T032610
DTSTART:20190315T180000
DTEND:20190315T210000
SEQUENCE:0
TRANSP:OPAQUE
END:VEVENT
END:VCALENDAR