BEGIN:VCALENDAR
VERSION:2.0
PRODID:-//jEvents 2.0 for Joomla//EN
CALSCALE:GREGORIAN
METHOD:PUBLISH
BEGIN:VEVENT
UID:bb67fda2fc734eb40e4146ab5118a7db
CATEGORIES:Abwesenheit Verena
CREATED:20190110T210045
SUMMARY:Grundkurs Bibliolog Modul 1
LOCATION:Christkönigshaus Stuttgart
URL;VALUE=URI:https://eja-aalen.de/medien/kalender/icalrepeat.detail/2019/02/04/373/-/gru
 ndkurs-bibliolog-modul-1?tmpl=component
DESCRIPTION: Dieser Event wurde importiert von: https://eja-aalen.de/medien/kalender/ic
 alrepeat.detail/2019/02/04/373/-/grundkurs-bibliolog-modul-1?tmpl=component
X-ALT-DESC;FMTTYPE=text/html: <a href="https://eja-aalen.de/medien/kalender/icalrepeat.detail/2019/02/04
 /373/-/grundkurs-bibliolog-modul-1?tmpl=component">Dieser Event wurde impor
 tiert von: https://eja-aalen.de/medien/kalender/icalrepeat.detail/2019/02/0
 4/373/-/grundkurs-bibliolog-modul-1?tmpl=component</a>X-EXTRAINFO:Fortbildung
DTSTAMP:20260425T170724
DTSTART;VALUE=DATE:20190204
DTEND;VALUE=DATE:20190206
SEQUENCE:0
TRANSP:OPAQUE
END:VEVENT
END:VCALENDAR