BEGIN:VCALENDAR
VERSION:2.0
PRODID:-//jEvents 2.0 for Joomla//EN
CALSCALE:GREGORIAN
METHOD:PUBLISH
BEGIN:VEVENT
UID:8a1cb1a53598fbda550b7efdcd21dff9
CATEGORIES:Jugendgottesdienste
CREATED:20190204T134734
SUMMARY:Lifeline-Jugendgottesdienst Abtsgmünd
URL;VALUE=URI:https://eja-aalen.de/medien/kalender/icalrepeat.detail/2019/02/09/374/-/lif
 eline-jugendgottesdienst-abtsgmuend?tmpl=component
DESCRIPTION: Dieser Event wurde importiert von: https://eja-aalen.de/medien/kalender/ic
 alrepeat.detail/2019/02/09/374/-/lifeline-jugendgottesdienst-abtsgmuend?tmp
 l=component
X-ALT-DESC;FMTTYPE=text/html: <a href="https://eja-aalen.de/medien/kalender/icalrepeat.detail/2019/02/09
 /374/-/lifeline-jugendgottesdienst-abtsgmuend?tmpl=component">Dieser Event 
 wurde importiert von: https://eja-aalen.de/medien/kalender/icalrepeat.detai
 l/2019/02/09/374/-/lifeline-jugendgottesdienst-abtsgmuend?tmpl=component</a
 >DTSTAMP:20260425T103249
DTSTART:20190209T193000
SEQUENCE:0
TRANSP:OPAQUE
END:VEVENT
END:VCALENDAR