BEGIN:VCALENDAR
VERSION:2.0
PRODID:-//jEvents 2.0 for Joomla//EN
CALSCALE:GREGORIAN
METHOD:PUBLISH
BEGIN:VEVENT
UID:12818907bd562795d5b920cdfdde9a96
CATEGORIES:Jugendgottesdienste
CREATED:20190204T134946
SUMMARY:Lifeline-Jugendgottesdienst Abtsgmünd
URL;VALUE=URI:https://eja-aalen.de/medien/kalender/icalrepeat.detail/2019/04/13/375/-/lif
 eline-jugendgottesdienst-abtsgmuend?tmpl=component
DESCRIPTION: <a href="https://eja-aalen.de/medien/kalender/icalrepeat.detail/2019/04/13
 /375/-/lifeline-jugendgottesdienst-abtsgmuend?tmpl=component">Dieser Event 
 wurde importiert von: https://eja-aalen.de/medien/kalender/icalrepeat.detai
 l/2019/04/13/375/-/lifeline-jugendgottesdienst-abtsgmuend?tmpl=component</a
 >DTSTAMP:20260423T014859
DTSTART:20190413T193000
SEQUENCE:0
TRANSP:OPAQUE
END:VEVENT
END:VCALENDAR