BEGIN:VCALENDAR
VERSION:2.0
PRODID:-//jEvents 2.0 for Joomla//EN
CALSCALE:GREGORIAN
METHOD:PUBLISH
BEGIN:VEVENT
UID:e865bcd3c1fc7955f77f67f5e499e236
CATEGORIES:Abwesenheit Verena
CREATED:20190227T103000
SUMMARY:EJA Teilbesetzung
URL;VALUE=URI:https://eja-aalen.de/medien/kalender/icalrepeat.detail/2019/03/01/382/-/eja
 -teilbesetzung?tmpl=component
DESCRIPTION: <a href="https://eja-aalen.de/medien/kalender/icalrepeat.detail/2019/03/01
 /382/-/eja-teilbesetzung?tmpl=component">Dieser Event wurde importiert von:
  https://eja-aalen.de/medien/kalender/icalrepeat.detail/2019/03/01/382/-/ej
 a-teilbesetzung?tmpl=component</a>DTSTAMP:20260425T223603
DTSTART;VALUE=DATE:20190301
DTEND;VALUE=DATE:20190302
SEQUENCE:0
TRANSP:OPAQUE
END:VEVENT
END:VCALENDAR