BEGIN:VCALENDAR
VERSION:2.0
PRODID:-//jEvents 2.0 for Joomla//EN
CALSCALE:GREGORIAN
METHOD:PUBLISH
BEGIN:VEVENT
UID:8c5f0b95bc1a015d8a01dfac9fa0415a
CATEGORIES:Abwesenheit Verena
CREATED:20190227T103115
SUMMARY:EJA Teilbesetzung
URL;VALUE=URI:https://eja-aalen.de/medien/kalender/icalrepeat.detail/2019/03/04/383/-/eja
 -teilbesetzung?tmpl=component
DESCRIPTION: <a href="https://eja-aalen.de/medien/kalender/icalrepeat.detail/2019/03/04
 /383/-/eja-teilbesetzung?tmpl=component">Dieser Event wurde importiert von:
  https://eja-aalen.de/medien/kalender/icalrepeat.detail/2019/03/04/383/-/ej
 a-teilbesetzung?tmpl=component</a>DTSTAMP:20260423T184536
DTSTART;VALUE=DATE:20190304
DTEND;VALUE=DATE:20190309
SEQUENCE:0
TRANSP:OPAQUE
END:VEVENT
END:VCALENDAR