BEGIN:VCALENDAR
VERSION:2.0
PRODID:-//jEvents 2.0 for Joomla//EN
CALSCALE:GREGORIAN
METHOD:PUBLISH
BEGIN:VEVENT
UID:a0ee30689dae514837362962f6fdf4ea
CATEGORIES:Gremien
CREATED:20190227T105118
SUMMARY:BAK Sitzung
LOCATION:ev. Gemeindehaus Lauterburg
URL;VALUE=URI:https://eja-aalen.de/medien/kalender/icalrepeat.detail/2019/05/22/390/-/bak
 -sitzung?tmpl=component
DESCRIPTION: <a href="https://eja-aalen.de/medien/kalender/icalrepeat.detail/2019/05/22
 /390/-/bak-sitzung?tmpl=component">Dieser Event wurde importiert von: https
 ://eja-aalen.de/medien/kalender/icalrepeat.detail/2019/05/22/390/-/bak-sitz
 ung?tmpl=component</a>CONTACT:Diese E-Mail-Adresse ist vor Spambots geschützt! Zur Anzeige muss JavaScript eingeschaltet sein!
				document.getElementById('cloak04c421def034292ca36eb9c6ff6c5684').innerHTML = '';
				var prefix = '&#109;a' + 'i&#108;' + '&#116;o';
				var path = 'hr' + 'ef' + '=';
				var addy04c421def034292ca36eb9c6ff6c5684 = 'v&#111;rs&#105;tz&#101;nd&#101;' + '&#64;';
				addy04c421def034292ca36eb9c6ff6c5684 = addy04c421def034292ca36eb9c6ff6c5684 + '&#101;j&#97;-&#97;&#97;l&#101;n' + '&#46;' + 'd&#101;';
				var addy_text04c421def034292ca36eb9c6ff6c5684 = 'v&#111;rs&#105;tz&#101;nd&#101;' + '&#64;' + '&#101;j&#97;-&#97;&#97;l&#101;n' + '&#46;' + 'd&#101;';document.getElementById('cloak04c421def034292ca36eb9c6ff6c5684').innerHTML += '<a ' + path + '\'' + prefix + ':' + addy04c421def034292ca36eb9c6ff6c5684 + '\'>'+addy_text04c421def034292ca36eb9c6ff6c5684+'';
		
X-EXTRAINFO:offene Sitzung, Interessierte herzlich Willkommen! Bitte kurze Rücksprache 
 halten (Essen)
DTSTAMP:20260423T035231
DTSTART:20190522T183000
SEQUENCE:0
TRANSP:OPAQUE
END:VEVENT
END:VCALENDAR