BEGIN:VCALENDAR
VERSION:2.0
PRODID:-//jEvents 2.0 for Joomla//EN
CALSCALE:GREGORIAN
METHOD:PUBLISH
BEGIN:VEVENT
UID:9a514277e93d46b694decee7ce126755
CATEGORIES:Abwesenheit Verena
CREATED:20190227T105216
SUMMARY:Teilbesetzung EJA
URL;VALUE=URI:https://eja-aalen.de/medien/kalender/icalrepeat.detail/2019/05/20/391/-/tei
 lbesetzung-eja?tmpl=component
DESCRIPTION: <a href="https://eja-aalen.de/medien/kalender/icalrepeat.detail/2019/05/20
 /391/-/teilbesetzung-eja?tmpl=component">Dieser Event wurde importiert von:
  https://eja-aalen.de/medien/kalender/icalrepeat.detail/2019/05/20/391/-/te
 ilbesetzung-eja?tmpl=component</a>DTSTAMP:20260425T024031
DTSTART;VALUE=DATE:20190520
DTEND;VALUE=DATE:20190522
SEQUENCE:0
TRANSP:OPAQUE
END:VEVENT
END:VCALENDAR