BEGIN:VCALENDAR
VERSION:2.0
PRODID:-//jEvents 2.0 for Joomla//EN
CALSCALE:GREGORIAN
METHOD:PUBLISH
BEGIN:VEVENT
UID:1d66e303e28b145eff0e685219c22ff8
CATEGORIES:Freizeiten
CREATED:20190319T102926
SUMMARY:LKB Vorbereitungstreffen - BEP
LOCATION:Trochtelfingen - altes Pfarrhaus
URL;VALUE=URI:https://eja-aalen.de/medien/kalender/icalrepeat.detail/2019/03/19/396/-/lkb
 -vorbereitungstreffen-bep?tmpl=component
DESCRIPTION: Dieser Event wurde importiert von: https://eja-aalen.de/medien/kalender/ic
 alrepeat.detail/2019/03/19/396/-/lkb-vorbereitungstreffen-bep?tmpl=componen
 t
X-ALT-DESC;FMTTYPE=text/html: <a href="https://eja-aalen.de/medien/kalender/icalrepeat.detail/2019/03/19
 /396/-/lkb-vorbereitungstreffen-bep?tmpl=component">Dieser Event wurde impo
 rtiert von: https://eja-aalen.de/medien/kalender/icalrepeat.detail/2019/03/
 19/396/-/lkb-vorbereitungstreffen-bep?tmpl=component</a>CONTACT:Diese E-Mail-Adresse ist vor Spambots geschützt! Zur Anzeige muss JavaScript eingeschaltet sein!
				document.getElementById('cloakdf742d39f1c27490d2541caf342f9aae').innerHTML = '';
				var prefix = '&#109;a' + 'i&#108;' + '&#116;o';
				var path = 'hr' + 'ef' + '=';
				var addydf742d39f1c27490d2541caf342f9aae = 'lkb' + '&#64;';
				addydf742d39f1c27490d2541caf342f9aae = addydf742d39f1c27490d2541caf342f9aae + '&#101;j&#97;-&#97;&#97;l&#101;n' + '&#46;' + 'd&#101;';
				var addy_textdf742d39f1c27490d2541caf342f9aae = 'lkb' + '&#64;' + '&#101;j&#97;-&#97;&#97;l&#101;n' + '&#46;' + 'd&#101;';document.getElementById('cloakdf742d39f1c27490d2541caf342f9aae').innerHTML += '<a ' + path + '\'' + prefix + ':' + addydf742d39f1c27490d2541caf342f9aae + '\'>'+addy_textdf742d39f1c27490d2541caf342f9aae+'';
		
DTSTAMP:20260424T042210
DTSTART:20190319T170000
DTEND:20190319T193000
SEQUENCE:0
TRANSP:OPAQUE
END:VEVENT
END:VCALENDAR