BEGIN:VCALENDAR
VERSION:2.0
PRODID:-//jEvents 2.0 for Joomla//EN
CALSCALE:GREGORIAN
METHOD:PUBLISH
BEGIN:VEVENT
UID:320c7462323b226925e6afe84e909b44
CATEGORIES:Gremien
CREATED:20190328T210849
SUMMARY:AK Öffentlichkeitsarbeit 
LOCATION:ev. Gemeindehaus\, Friedhofstr. 5 Aalen
URL;VALUE=URI:https://eja-aalen.de/medien/kalender/icalrepeat.detail/2019/05/09/406/-/ak-
 oeffentlichkeitsarbeit?tmpl=component
DESCRIPTION:<p>Interesse beim Bezirksjugendwerk mitzuwirbeln?</p><p>&Ouml;ffentlichkeit
 sarbeit, Ideen sammeln, Spa&szlig; haben, Werbetrommeln sch&uuml;ren sind u
 nsere Schwerpunkte</p> <a href="https://eja-aalen.de/medien/kalender/icalre
 peat.detail/2019/05/09/406/-/ak-oeffentlichkeitsarbeit?tmpl=component">Dies
 er Event wurde importiert von: https://eja-aalen.de/medien/kalender/icalrep
 eat.detail/2019/05/09/406/-/ak-oeffentlichkeitsarbeit?tmpl=component</a>CONTACT:Diese E-Mail-Adresse ist vor Spambots geschützt! Zur Anzeige muss JavaScript eingeschaltet sein!
				document.getElementById('cloaka475181284d1a0ff09085bf33d444be0').innerHTML = '';
				var prefix = '&#109;a' + 'i&#108;' + '&#116;o';
				var path = 'hr' + 'ef' + '=';
				var addya475181284d1a0ff09085bf33d444be0 = '&#97;k&#111;&#101;ff' + '&#64;';
				addya475181284d1a0ff09085bf33d444be0 = addya475181284d1a0ff09085bf33d444be0 + '&#101;j&#97;-&#97;&#97;l&#101;n' + '&#46;' + 'd&#101;';
				var addy_texta475181284d1a0ff09085bf33d444be0 = '&#97;k&#111;&#101;ff' + '&#64;' + '&#101;j&#97;-&#97;&#97;l&#101;n' + '&#46;' + 'd&#101;';document.getElementById('cloaka475181284d1a0ff09085bf33d444be0').innerHTML += '<a ' + path + '\'' + prefix + ':' + addya475181284d1a0ff09085bf33d444be0 + '\'>'+addy_texta475181284d1a0ff09085bf33d444be0+'';
		
DTSTAMP:20260423T042217
DTSTART:20190509T173000
DTEND:20190509T190000
SEQUENCE:0
TRANSP:OPAQUE
END:VEVENT
END:VCALENDAR