BEGIN:VCALENDAR
VERSION:2.0
PRODID:-//jEvents 2.0 for Joomla//EN
CALSCALE:GREGORIAN
METHOD:PUBLISH
BEGIN:VEVENT
UID:62072aeb249ed2f5ff6d5df3e7681577
CATEGORIES:Abwesenheit Elke
CREATED:20190411T153432
SUMMARY:Teilbesetzung EJA
URL;VALUE=URI:https://eja-aalen.de/medien/kalender/icalrepeat.detail/2019/04/15/412/-/tei
 lbesetzung-eja?tmpl=component
DESCRIPTION: Dieser Event wurde importiert von: https://eja-aalen.de/medien/kalender/ic
 alrepeat.detail/2019/04/15/412/-/teilbesetzung-eja?tmpl=component
X-ALT-DESC;FMTTYPE=text/html: <a href="https://eja-aalen.de/medien/kalender/icalrepeat.detail/2019/04/15
 /412/-/teilbesetzung-eja?tmpl=component">Dieser Event wurde importiert von:
  https://eja-aalen.de/medien/kalender/icalrepeat.detail/2019/04/15/412/-/te
 ilbesetzung-eja?tmpl=component</a>DTSTAMP:20260426T005445
DTSTART:20190415T080000
SEQUENCE:0
TRANSP:OPAQUE
END:VEVENT
END:VCALENDAR