BEGIN:VCALENDAR
VERSION:2.0
PRODID:-//jEvents 2.0 for Joomla//EN
CALSCALE:GREGORIAN
METHOD:PUBLISH
BEGIN:VEVENT
UID:d5f5a8a74077ed881684db02e5e256f9
CATEGORIES:Abwesenheit Elke
CREATED:20190411T153504
SUMMARY:Teilbesetzung EJA
URL;VALUE=URI:https://eja-aalen.de/medien/kalender/icalrepeat.detail/2019/04/22/413/-/tei
 lbesetzung-eja?tmpl=component
DESCRIPTION: Dieser Event wurde importiert von: https://eja-aalen.de/medien/kalender/ic
 alrepeat.detail/2019/04/22/413/-/teilbesetzung-eja?tmpl=component
X-ALT-DESC;FMTTYPE=text/html: <a href="https://eja-aalen.de/medien/kalender/icalrepeat.detail/2019/04/22
 /413/-/teilbesetzung-eja?tmpl=component">Dieser Event wurde importiert von:
  https://eja-aalen.de/medien/kalender/icalrepeat.detail/2019/04/22/413/-/te
 ilbesetzung-eja?tmpl=component</a>DTSTAMP:20260422T011823
DTSTART;VALUE=DATE:20190422
DTEND;VALUE=DATE:20190423
SEQUENCE:0
TRANSP:OPAQUE
END:VEVENT
END:VCALENDAR