BEGIN:VCALENDAR
VERSION:2.0
PRODID:-//jEvents 2.0 for Joomla//EN
CALSCALE:GREGORIAN
METHOD:PUBLISH
BEGIN:VEVENT
UID:80e723f5df8033d24ace38a12be62f24
CATEGORIES:Abwesenheit Verena
CREATED:20190521T121027
SUMMARY:Teilbesetzung EJA
URL;VALUE=URI:https://eja-aalen.de/medien/kalender/icalrepeat.detail/2019/05/22/416/-/tei
 lbesetzung-eja?tmpl=component
DESCRIPTION: Dieser Event wurde importiert von: https://eja-aalen.de/medien/kalender/ic
 alrepeat.detail/2019/05/22/416/-/teilbesetzung-eja?tmpl=component
X-ALT-DESC;FMTTYPE=text/html: <a href="https://eja-aalen.de/medien/kalender/icalrepeat.detail/2019/05/22
 /416/-/teilbesetzung-eja?tmpl=component">Dieser Event wurde importiert von:
  https://eja-aalen.de/medien/kalender/icalrepeat.detail/2019/05/22/416/-/te
 ilbesetzung-eja?tmpl=component</a>DTSTAMP:20260423T224312
DTSTART;VALUE=DATE:20190522
DTEND;VALUE=DATE:20190525
SEQUENCE:0
TRANSP:OPAQUE
END:VEVENT
END:VCALENDAR